BEGIN:VCALENDAR
VERSION:2.0
PRODID:-//Atomic Dog Hard Cider - ECPv6.15.20//NONSGML v1.0//EN
CALSCALE:GREGORIAN
METHOD:PUBLISH
X-WR-CALNAME:Atomic Dog Hard Cider
X-ORIGINAL-URL:https://atomicdoghardcider.com
X-WR-CALDESC:Events for Atomic Dog Hard Cider
REFRESH-INTERVAL;VALUE=DURATION:PT1H
X-Robots-Tag:noindex
X-PUBLISHED-TTL:PT1H
BEGIN:VTIMEZONE
TZID:UTC
BEGIN:STANDARD
TZOFFSETFROM:+0000
TZOFFSETTO:+0000
TZNAME:UTC
DTSTART:20230101T000000
END:STANDARD
END:VTIMEZONE
BEGIN:VEVENT
DTSTART;TZID=UTC:20240927T160000
DTEND;TZID=UTC:20240927T180000
DTSTAMP:20260422T180010
CREATED:20240909T201020Z
LAST-MODIFIED:20240909T201020Z
UID:10561-1727452800-1727460000@atomicdoghardcider.com
SUMMARY:Neshaminy Beer and Soda Tasting
DESCRIPTION:
URL:https://atomicdoghardcider.com/event/neshaminy-beer-and-soda-tasting/
LOCATION:Neshaminy Beer and Soda\, 2329 Bristol Rd\, Bensalem\, PA\, 19020\, United States
END:VEVENT
END:VCALENDAR