BEGIN:VCALENDAR
VERSION:2.0
PRODID:-//Atomic Dog Hard Cider - ECPv6.15.20//NONSGML v1.0//EN
CALSCALE:GREGORIAN
METHOD:PUBLISH
X-WR-CALNAME:Atomic Dog Hard Cider
X-ORIGINAL-URL:https://atomicdoghardcider.com
X-WR-CALDESC:Events for Atomic Dog Hard Cider
REFRESH-INTERVAL;VALUE=DURATION:PT1H
X-Robots-Tag:noindex
X-PUBLISHED-TTL:PT1H
BEGIN:VTIMEZONE
TZID:UTC
BEGIN:STANDARD
TZOFFSETFROM:+0000
TZOFFSETTO:+0000
TZNAME:UTC
DTSTART:20230101T000000
END:STANDARD
END:VTIMEZONE
BEGIN:VEVENT
DTSTART;TZID=UTC:20240928T130000
DTEND;TZID=UTC:20240928T210000
DTSTAMP:20260422T193207
CREATED:20240909T201354Z
LAST-MODIFIED:20240909T201354Z
UID:10564-1727528400-1727557200@atomicdoghardcider.com
SUMMARY:Brooklyn Whiskey & Craft Spirits Festival
DESCRIPTION:
URL:https://atomicdoghardcider.com/event/brooklyn-whiskey-craft-spirits-festival/
LOCATION:Brooklyn Navy Yard\, 141 Flushing Avenue\, Brooklyn\, NY\, 11205\, United States
ORGANIZER;CN="Evan Berman Productions":MAILTO:evan@evanbermanproductions.com
END:VEVENT
END:VCALENDAR